BEGIN:VCALENDAR
VERSION:2.0
PRODID:< http://www.open2c.de/ >
METHOD:PUBLISH
X-PUBLISHED-TTL:PT12H
BEGIN:VEVENT
CREATED:20191014T212600Z
LAST-MODIFIED:20191014T212655Z
GEO:0.000000,0.000000
ORGANIZER;CN="Kindergarten St. Barbara"DTSTAMP:20260422T064815Z
DTSTART:20191112T160000Z
DTEND:20191112T160000Z
CATEGORIES:Kinder
SUMMARY;CHARSET=UTF-8:Martinsumzug
DESCRIPTION;CHARSET=UTF-8:Organisator   Kindergarten St. Barbara
LOCATION;CHARSET=UTF-8:Pliening
UID:fcddbbb5123ef1e4d9a04295aa8101fa@a265c234b019f8e4ef003bb57e41bb9d
END:VEVENT
BEGIN:VEVENT
CREATED:20191022T213604Z
LAST-MODIFIED:20191022T213710Z
GEO:0.000000,0.000000
ORGANIZER;CN="Elterninitiative Pliening"DTSTAMP:20260422T064815Z
DTSTART:20191115T190000Z
DTEND:20191115T190000Z
CATEGORIES:Vereine
SUMMARY;CHARSET=UTF-8:Jahresvollversammlung
DESCRIPTION;CHARSET=UTF-8:Organisator   Elterninitiative Pliening
LOCATION;CHARSET=UTF-8:Plieninger Familienland
UID:2ad09ba79ae83e2f82357735f8283d92@a265c234b019f8e4ef003bb57e41bb9d
END:VEVENT
END:VCALENDAR