BEGIN:VCALENDAR
VERSION:1.0
PRODID:Open2CKalenderExportV11
BEGIN:VEVENT
DTSTAMP:20251030T134101Z
DTSTART:20251031T160000Z
DTEND:20251031T200000Z
CATEGORIES:Verschiedenes
SUMMARY;CHARSET=UTF-8:Halloween Umtrunk Neues Forum
DESCRIPTION;CHARSET=UTF-8: | Organisator   Neues Forum | Kontakt   Anton Holzner
LOCATION;CHARSET=UTF-8:Pliening Ecke Herdweg/Lindenstraße
 Landsham gegenüber Dorfplatz
UID:3d46751aaf1877671d39095d9e60cd39-d2e202a9de073293bc44197c3faef6c8
PRIORITY:3
END:VEVENT
END:VCALENDAR