BEGIN:VCALENDAR
VERSION:1.0
PRODID:Open2CKalenderExportV11
BEGIN:VEVENT
DTSTAMP:20251015T113451Z
DTSTART:20251126T170000Z
DTEND:20251126T200000Z
CATEGORIES:Vereine
SUMMARY;CHARSET=UTF-8:offener Stammtisch Heimatverein
DESCRIPTION;CHARSET=UTF-8: | Organisator   Heimatverein Pliening e.V. | Kontakt   Isabelle Riemer-Gricksch
LOCATION;CHARSET=UTF-8:Gasthof Stocker, Landsham
UID:bf84b4bd5b4f50f544e0797a3bc6f98f-c53d20a2c4e2a11be97ca322a54b112b
PRIORITY:3
END:VEVENT
END:VCALENDAR