BEGIN:VCALENDAR
VERSION:1.0
PRODID:Open2CKalenderExportV11
BEGIN:VEVENT
DTSTAMP:20250916T125741Z
DTSTART:20251017T220000Z
DTEND:20251017T220000Z
CATEGORIES:Verschiedenes
SUMMARY;CHARSET=UTF-8:Konzert Bezirksorchester in Neufahrn
DESCRIPTION;CHARSET=UTF-8: | Organisator   Musikkapelle Gelting | Kontakt   Georg Rittler
LOCATION;CHARSET=UTF-8:
UID:d86b18f4683a4083748d27780d9c6a2c-b9c91c303028c98e259333f8434a3581
PRIORITY:3
END:VEVENT
END:VCALENDAR