BEGIN:VCALENDAR
VERSION:1.0
PRODID:Open2CKalenderExportV11
BEGIN:VEVENT
DTSTAMP:20250916T073330Z
DTSTART:20251015T170000Z
DTEND:20251015T190000Z
CATEGORIES:Verschiedenes
SUMMARY;CHARSET=UTF-8:Grüner Treff
DESCRIPTION;CHARSET=UTF-8: | Organisator   Bündnis 90/Die Grünen Ortsverband Pliening | Kontakt   Ga\niele Heigl
LOCATION;CHARSET=UTF-8:Gasthof Stocker, Landsham
UID:0ccb926d1a6aee9ac218324d3e19e91d-82941cd2c1869c80d360270136dfe279
PRIORITY:3
END:VEVENT
END:VCALENDAR