BEGIN:VCALENDAR
VERSION:1.0
PRODID:Open2CKalenderExportV11
BEGIN:VEVENT
DTSTAMP:20250916T063654Z
DTSTART:20251029T180000Z
DTEND:20251029T200000Z
CATEGORIES:Verschiedenes
SUMMARY;CHARSET=UTF-8:1. Stammtisch der Frauenunion
DESCRIPTION;CHARSET=UTF-8: | Organisator   Frauenunion Pliening | Kontakt   Sandra Liess
LOCATION;CHARSET=UTF-8:Gasthof Stocker, Landsham
UID:3592b58a534bde687d999669c99fb667-b2d575e45250f6da8dee610362187961
PRIORITY:3
END:VEVENT
END:VCALENDAR