BEGIN:VCALENDAR
VERSION:1.0
PRODID:Open2CKalenderExportV11
BEGIN:VEVENT
DTSTAMP:20250916T063501Z
DTSTART:20251006T173000Z
DTEND:20251006T190000Z
CATEGORIES:Vereine
SUMMARY;CHARSET=UTF-8:CSU-Stammtisch
DESCRIPTION;CHARSET=UTF-8: | Organisator   CSU-Ortsverband Pliening | Kontakt   Rene Buchmann
LOCATION;CHARSET=UTF-8:Gasthof Forchhammer
UID:c15adb3fed1defdbc45e97909c804fa7-9e525ffbd0b7e67075304f754cbf127e
PRIORITY:3
END:VEVENT
END:VCALENDAR