BEGIN:VCALENDAR
VERSION:1.0
PRODID:Open2CKalenderExportV11
BEGIN:VEVENT
DTSTAMP:20250911T145641Z
DTSTART:20251010T163000Z
DTEND:20251010T183000Z
CATEGORIES:Verschiedenes
SUMMARY;CHARSET=UTF-8:Kessel- und Tellerfleischessen SG Ottersberg
DESCRIPTION;CHARSET=UTF-8:Reservierung unter 08121-771537 | Organisator   SG Ottersberg | Kontakt   Thomas Kiefer
LOCATION;CHARSET=UTF-8:Vereinsheim
UID:2ac6ae13ff60bcc63da5295e35dc1f8b-ebadea01249fded558b0386750778744
PRIORITY:3
END:VEVENT
END:VCALENDAR