BEGIN:VCALENDAR
VERSION:1.0
PRODID:Open2CKalenderExportV11
BEGIN:VEVENT
DTSTAMP:20250911T145443Z
DTSTART:20251001T120000Z
DTEND:20251001T140000Z
CATEGORIES:Verschiedenes
SUMMARY;CHARSET=UTF-8:Rentnerstammtisch
DESCRIPTION;CHARSET=UTF-8: | Organisator   SG Ottersberg | Kontakt   Thomas Kiefer
LOCATION;CHARSET=UTF-8:Vereinsheim
UID:800a01b04e9eaf32ae4d3f6afbfc9d09-c52df8f640db932b2231caebbf1bcab7
PRIORITY:3
END:VEVENT
END:VCALENDAR