BEGIN:VCALENDAR
VERSION:1.0
PRODID:Open2CKalenderExportV11
BEGIN:VEVENT
DTSTAMP:20250911T145318Z
DTSTART:20250927T170000Z
DTEND:20250927T200000Z
CATEGORIES:Feste und Feiern
SUMMARY;CHARSET=UTF-8:"O zapft is" SG Ottersberg
DESCRIPTION;CHARSET=UTF-8:Reservierung unter 08121-771537 | Organisator   SG Ottersberg | Kontakt   Thomas Kiefer
LOCATION;CHARSET=UTF-8:Vereinsheim
UID:4b6a1809df90001ccfaf7762b9c3eb81-46c6887b9f9a00cfdb379e508503a204
PRIORITY:3
END:VEVENT
END:VCALENDAR