BEGIN:VCALENDAR
VERSION:1.0
PRODID:Open2CKalenderExportV11
BEGIN:VEVENT
DTSTAMP:20250905T100325Z
DTSTART:20251025T220000Z
DTEND:20251025T220000Z
CATEGORIES:Verschiedenes
SUMMARY;CHARSET=UTF-8:Gedenkgottesdienst SSV Landsham
DESCRIPTION;CHARSET=UTF-8: | Organisator   SSV Landsham | Kontakt   Florian Gemsjäger
LOCATION;CHARSET=UTF-8:
UID:dd0d210729b7c675a9d63f32c2d08bfb-32d2ef3274270743c4c9d2c5249f4b04
PRIORITY:3
END:VEVENT
END:VCALENDAR