BEGIN:VCALENDAR
VERSION:1.0
PRODID:Open2CKalenderExportV11
BEGIN:VEVENT
DTSTAMP:20250819T075719Z
DTSTART:20250907T090000Z
DTEND:20250907T120000Z
CATEGORIES:Ausstellungen
SUMMARY;CHARSET=UTF-8:Museumsraum Sonntags geöffnet
DESCRIPTION;CHARSET=UTF-8: | Organisator   Heimatverein Pliening | Kontakt   Kurt Strehlow
LOCATION;CHARSET=UTF-8:Markt Schwabener Str. 12, Gelting
UID:afabd86b0c9723fff13aee8df628da4f-4b276ca608ad9b94f9d36cc9943c98b3
PRIORITY:3
END:VEVENT
END:VCALENDAR