BEGIN:VCALENDAR
VERSION:1.0
PRODID:Open2CKalenderExportV11
BEGIN:VEVENT
DTSTAMP:20250819T075212Z
DTSTART:20250918T160000Z
DTEND:20250918T180000Z
CATEGORIES:Verschiedenes
SUMMARY;CHARSET=UTF-8:Grüner Treff Outdoor Spielaktion
DESCRIPTION;CHARSET=UTF-8: | Organisator   Bündnis 90/Die Grünen Ortsverband Pliening | Kontakt   Ga\niele Heigl
LOCATION;CHARSET=UTF-8:Dorfplatz Landsham
UID:b8998e527358a471a6f46d75dd94f75c-4a0354931623dd8405359c0e5e7ae0f5
PRIORITY:3
END:VEVENT
END:VCALENDAR