BEGIN:VCALENDAR
VERSION:1.0
PRODID:Open2CKalenderExportV11
BEGIN:VEVENT
DTSTAMP:20250617T065524Z
DTSTART:20250708T170000Z
DTEND:20250708T190000Z
CATEGORIES:Verschiedenes
SUMMARY;CHARSET=UTF-8:Grüner Treff
DESCRIPTION;CHARSET=UTF-8: | Organisator   Bündnis 90/ Die Grünen Ortsverband Pliening | Kontakt   Ga\niele Heigl
LOCATION;CHARSET=UTF-8:Gasthof Forchhammer
UID:91d00bb1b8ffa56b4cbe843000a8e671-9509dfffb4aef6a8b442d8c527e1fd05
PRIORITY:3
END:VEVENT
END:VCALENDAR