BEGIN:VCALENDAR
VERSION:1.0
PRODID:Open2CKalenderExportV11
BEGIN:VEVENT
DTSTAMP:20250401T084346Z
DTSTART:20250712T220000Z
DTEND:20250712T220000Z
CATEGORIES:Vereine
SUMMARY;CHARSET=UTF-8:Grillfest am Maibaumplatz
DESCRIPTION;CHARSET=UTF-8: | Organisator   Neues Forum | Kontakt   Anton Holzner
LOCATION;CHARSET=UTF-8:Maibaumplatz Pliening
UID:38a741ae0e35f92ad273dc4d9684f217-c69402299346d735302c619f2ab356de
PRIORITY:3
END:VEVENT
END:VCALENDAR