BEGIN:VCALENDAR
VERSION:1.0
PRODID:Open2CKalenderExportV11
BEGIN:VEVENT
DTSTAMP:20250319T100521Z
DTSTART:20251017T220000Z
DTEND:20251017T220000Z
CATEGORIES:Konzerte
SUMMARY;CHARSET=UTF-8:Kirchenberatungsspiel MKG
DESCRIPTION;CHARSET=UTF-8: | Organisator   Musikkapelle Gelting | Kontakt   Frau Mütze
LOCATION;CHARSET=UTF-8:Dom Freising
UID:d86b18f4683a4083748d27780d9c6a2c-8b4752226dabf79efd7f575f4507edf6
PRIORITY:3
END:VEVENT
END:VCALENDAR