BEGIN:VCALENDAR
VERSION:1.0
PRODID:Open2CKalenderExportV11
BEGIN:VEVENT
DTSTAMP:20250319T095917Z
DTSTART:20250913T080000Z
DTEND:20250913T160000Z
CATEGORIES:Sport
SUMMARY;CHARSET=UTF-8:Finale Dorfmeisterschaft SSV
DESCRIPTION;CHARSET=UTF-8: | Organisator   Stockschützenverein Landsham | Kontakt   H. Volk
LOCATION;CHARSET=UTF-8:
UID:48963ddb7529db699febb7caf7307afc-23bbc31647d7f97575e5cdaec77b92b6
PRIORITY:3
END:VEVENT
END:VCALENDAR