BEGIN:VCALENDAR
VERSION:1.0
PRODID:Open2CKalenderExportV11
BEGIN:VEVENT
DTSTAMP:20250319T094914Z
DTSTART:20250703T220000Z
DTEND:20250703T220000Z
CATEGORIES:Verschiedenes
SUMMARY;CHARSET=UTF-8:Sommerfest Grundschule
DESCRIPTION;CHARSET=UTF-8: | Organisator   Grundschule Pliening | Kontakt   Elternbeirat Frau Liess
LOCATION;CHARSET=UTF-8:Grundschule
UID:35769f9e5b92d4a26dd39e6d040dda5a-827e7c6e369e6ed7f0c581fc43e551c5
PRIORITY:3
END:VEVENT
END:VCALENDAR