BEGIN:VCALENDAR
VERSION:1.0
PRODID:Open2CKalenderExportV11
BEGIN:VEVENT
DTSTAMP:20250317T100043Z
DTSTART:20250405T070000Z
DTEND:20250405T110000Z
CATEGORIES:Verschiedenes
SUMMARY;CHARSET=UTF-8:RAMADAMA
DESCRIPTION;CHARSET=UTF-8: | Organisator   Gemeinde Pliening | Kontakt   Herr Lohmaier
LOCATION;CHARSET=UTF-8:
UID:b204c930c5357bfea07611171d0ac47c-3a720b9f93218f07119526f6c85cd296
PRIORITY:3
END:VEVENT
END:VCALENDAR