BEGIN:VCALENDAR
VERSION:1.0
PRODID:Open2CKalenderExportV11
BEGIN:VEVENT
DTSTAMP:20250314T113652Z
DTSTART:20250712T120000Z
DTEND:20250712T140000Z
CATEGORIES:Sport
SUMMARY;CHARSET=UTF-8:TC - Heimspiel Landesliga Damen 50 TC Bad Reichenhall
DESCRIPTION;CHARSET=UTF-8: | Organisator   TC Pliening | Kontakt   Dirk Rehberg
LOCATION;CHARSET=UTF-8:
UID:ec010d93dcb96a27ec0e2c6eb86eb609-8b419b39997df686c81324bd97f5a0dd
PRIORITY:3
END:VEVENT
END:VCALENDAR