BEGIN:VCALENDAR
VERSION:1.0
PRODID:Open2CKalenderExportV11
BEGIN:VEVENT
DTSTAMP:20250314T113534Z
DTSTART:20250712T100000Z
DTEND:20250712T120000Z
CATEGORIES:Sport
SUMMARY;CHARSET=UTF-8:TC - Heimspiel Regionalliga Herren 50 TC Bamberg
DESCRIPTION;CHARSET=UTF-8: | Organisator   TC Pliening | Kontakt   Dirk Rehberg
LOCATION;CHARSET=UTF-8:
UID:c6410b3e22f3b5ebc6c799cb6acedbfb-ced99e62d4dec5e03e239afa03ce3555
PRIORITY:3
END:VEVENT
END:VCALENDAR