BEGIN:VCALENDAR
VERSION:1.0
PRODID:Open2CKalenderExportV11
BEGIN:VEVENT
DTSTAMP:20250314T113242Z
DTSTART:20250705T100000Z
DTEND:20250705T120000Z
CATEGORIES:Sport
SUMMARY;CHARSET=UTF-8:TC - Heimspiel Regionalliga Herren 40 STC Oberland
DESCRIPTION;CHARSET=UTF-8: | Organisator   TC Pliening | Kontakt   Dirk Rehberg
LOCATION;CHARSET=UTF-8:
UID:68603836e4e2b4ba139a2d8adfad909d-769cacf38225abcc43f7dfbab1c474f7
PRIORITY:3
END:VEVENT
END:VCALENDAR