BEGIN:VCALENDAR
VERSION:1.0
PRODID:Open2CKalenderExportV11
BEGIN:VEVENT
DTSTAMP:20250314T110400Z
DTSTART:20250517T120000Z
DTEND:20250517T140000Z
CATEGORIES:Sport
SUMMARY;CHARSET=UTF-8:TC- Heimspiel Landesliga Herren 40 II TSV Marquartstein
DESCRIPTION;CHARSET=UTF-8: | Organisator   TC Pliening | Kontakt   Dirk Rehberg
LOCATION;CHARSET=UTF-8:
UID:dcc027a21d7680fdc18d0402e9529c11-adc825ed0e557f58f7eb155fc72bfb28
PRIORITY:3
END:VEVENT
END:VCALENDAR