BEGIN:VCALENDAR
VERSION:1.0
PRODID:Open2CKalenderExportV11
BEGIN:VEVENT
DTSTAMP:20250314T104347Z
DTSTART:20250913T170000Z
DTEND:20250913T200000Z
CATEGORIES:Vereine
SUMMARY;CHARSET=UTF-8:Eröffnung der Saison SG Ottersberg
DESCRIPTION;CHARSET=UTF-8: | Organisator   SG Ottersberg | Kontakt   Thomas Kiefer
LOCATION;CHARSET=UTF-8:
UID:100383ac89694da76189a524e892ef44-8518647ad4dab24a6bf4d3e1cb691064
PRIORITY:3
END:VEVENT
END:VCALENDAR