BEGIN:VCALENDAR
VERSION:1.0
PRODID:Open2CKalenderExportV11
BEGIN:VEVENT
DTSTAMP:20250314T103633Z
DTSTART:20250702T120000Z
DTEND:20250702T140000Z
CATEGORIES:Vereine
SUMMARY;CHARSET=UTF-8:Rentnerstammtisch
DESCRIPTION;CHARSET=UTF-8: | Organisator   SG Ottersberg | Kontakt   Thomas Kiefer
LOCATION;CHARSET=UTF-8:
UID:62a7d34766c23065665622c1777d2434-c52df8f640db932b2231caebbf1bcab7
PRIORITY:3
END:VEVENT
END:VCALENDAR