BEGIN:VCALENDAR
VERSION:1.0
PRODID:Open2CKalenderExportV11
BEGIN:VEVENT
DTSTAMP:20250313T153813Z
DTSTART:20250411T220000Z
DTEND:20250411T220000Z
CATEGORIES:Vereine
SUMMARY;CHARSET=UTF-8:Maibaumstüberl - BV Landsham Wach mit der Band "Drunter und Drüber"
DESCRIPTION;CHARSET=UTF-8: | Organisator   Maibaumverein Landsham | Kontakt   Markus Uffinger
LOCATION;CHARSET=UTF-8:Maibaumstüberl Dorfplatz Landsham
UID:3f035e2752bcac339fc832a9acc57ee2-5faa0819fd47ef6e02f560a0cc449d9d
PRIORITY:3
END:VEVENT
END:VCALENDAR