BEGIN:VCALENDAR
VERSION:1.0
PRODID:Open2CKalenderExportV11
BEGIN:VEVENT
DTSTAMP:20250313T153631Z
DTSTART:20250410T220000Z
DTEND:20250410T220000Z
CATEGORIES:Vereine
SUMMARY;CHARSET=UTF-8:Maibaumstüberl - BV Landsham Rüscherlparty
DESCRIPTION;CHARSET=UTF-8: | Organisator   Maibaumverein Landsham | Kontakt   Markus Uffinger
LOCATION;CHARSET=UTF-8:Maibaumstüberl Dorfplatz Landsham
UID:7f72c9e96564ff9edbda51a6e7099db6-44d029d39348c89163564c671362f8e6
PRIORITY:3
END:VEVENT
END:VCALENDAR