BEGIN:VCALENDAR
VERSION:1.0
PRODID:Open2CKalenderExportV11
BEGIN:VEVENT
DTSTAMP:20250313T153503Z
DTSTART:20250409T220000Z
DTEND:20250409T220000Z
CATEGORIES:Vereine
SUMMARY;CHARSET=UTF-8:Maibaumstüberl - FFW Landsham - Wattturnier
DESCRIPTION;CHARSET=UTF-8: | Organisator   Maibaumverein Landsham | Kontakt   Markus Uffinger
LOCATION;CHARSET=UTF-8:Maibaumstüberl Dorfplatz Landsham
UID:2e7e2df824c0cfd0639740ad43face6d-744774edd603ea12cc2435facf9b4f2b
PRIORITY:3
END:VEVENT
END:VCALENDAR