BEGIN:VCALENDAR
VERSION:1.0
PRODID:Open2CKalenderExportV11
BEGIN:VEVENT
DTSTAMP:20250313T153322Z
DTSTART:20250407T220000Z
DTEND:20250407T220000Z
CATEGORIES:Vereine
SUMMARY;CHARSET=UTF-8:Maibaumstüberl - SSV Rentnernachmittag mit Südtiroler Abend
DESCRIPTION;CHARSET=UTF-8: | Organisator   Maibaumverein Landsham | Kontakt   Markus Uffinger
LOCATION;CHARSET=UTF-8:Maibaumstüberl Dorfplatz Landsham
UID:50bc53c93382acae818da0e70bd5a4c3-8ec71ad5965d45c1ae0a47a704ff8549
PRIORITY:3
END:VEVENT
END:VCALENDAR