BEGIN:VCALENDAR
VERSION:1.0
PRODID:Open2CKalenderExportV11
BEGIN:VEVENT
DTSTAMP:20250313T153006Z
DTSTART:20250406T220000Z
DTEND:20250406T220000Z
CATEGORIES:Vereine
SUMMARY;CHARSET=UTF-8:Maibaumstüberl - Kesselfleischessen
DESCRIPTION;CHARSET=UTF-8: | Organisator   Maibaumverein Landsham | Kontakt   Markus Uffinger
LOCATION;CHARSET=UTF-8:Maibaumstüberl Dorfplatz Landsham
UID:3688ac5d5a2c161cea64f9626d40bfd6-9e041fa618a9f595d2f27a373e203d26
PRIORITY:3
END:VEVENT
END:VCALENDAR