BEGIN:VCALENDAR
VERSION:1.0
PRODID:Open2CKalenderExportV11
BEGIN:VEVENT
DTSTAMP:20250313T152845Z
DTSTART:20250404T220000Z
DTEND:20250404T220000Z
CATEGORIES:Vereine
SUMMARY;CHARSET=UTF-8:Maibaumstüberl - Rot für die Welt-Schnitzel-Abend
DESCRIPTION;CHARSET=UTF-8: | Organisator   Maibaumverein Landsham | Kontakt   Markus Uffinger
LOCATION;CHARSET=UTF-8:Maibaumstüberl Dorfplatz Landsham
UID:249ba393727857a2ed2d1d180dee23fe-ebb1f0ae98c52ae9742760c6941c3d59
PRIORITY:3
END:VEVENT
END:VCALENDAR