BEGIN:VCALENDAR
VERSION:1.0
PRODID:Open2CKalenderExportV11
BEGIN:VEVENT
DTSTAMP:20250313T152510Z
DTSTART:20250402T220000Z
DTEND:20250402T220000Z
CATEGORIES:Vereine
SUMMARY;CHARSET=UTF-8:Maibaumstüberl - Darts-Turnier
DESCRIPTION;CHARSET=UTF-8: | Organisator   Maibaumverein Landsham | Kontakt   Markus Uffinger
LOCATION;CHARSET=UTF-8:Maibaumstüberl Dorfplatz Landsham
UID:b72e90922b99ed04ae0cdede8b0e214e-d4283d9ea04be1fd4e97e08cd43a3a2e
PRIORITY:3
END:VEVENT
END:VCALENDAR