BEGIN:VCALENDAR
VERSION:1.0
PRODID:Open2CKalenderExportV11
BEGIN:VEVENT
DTSTAMP:20250313T143311Z
DTSTART:20250405T170000Z
DTEND:20250405T200000Z
CATEGORIES:Sport
SUMMARY;CHARSET=UTF-8:Ausschießen der Königsscheibe und Jugendpokal Schießen
DESCRIPTION;CHARSET=UTF-8: | Organisator   SG Ottersberg | Kontakt   Thomas Kiefer
LOCATION;CHARSET=UTF-8:
UID:00bc66a05658630da68cf8ba3dc92066-bbdeb3a2f843cede48a95edd1c966770
PRIORITY:3
END:VEVENT
END:VCALENDAR