BEGIN:VCALENDAR
VERSION:1.0
PRODID:Open2CKalenderExportV11
BEGIN:VEVENT
DTSTAMP:20250313T143123Z
DTSTART:20250402T120000Z
DTEND:20250402T140000Z
CATEGORIES:Verschiedenes
SUMMARY;CHARSET=UTF-8:Rentnerstammtisch
DESCRIPTION;CHARSET=UTF-8: | Organisator   SG Ottersberg | Kontakt   Thomas Kiefer
LOCATION;CHARSET=UTF-8:
UID:29d488405a0df6f17546dfa4be4dc472-c52df8f640db932b2231caebbf1bcab7
PRIORITY:3
END:VEVENT
END:VCALENDAR