BEGIN:VCALENDAR
VERSION:1.0
PRODID:Open2CKalenderExportV11
BEGIN:VEVENT
DTSTAMP:20250313T135445Z
DTSTART:20251123T074500Z
DTEND:20251123T084500Z
CATEGORIES:Verschiedenes
SUMMARY;CHARSET=UTF-8:MKG - Volkstrauertag in Landsham
DESCRIPTION;CHARSET=UTF-8: | Organisator   Musikkapelle Gelting | Kontakt   H. Rittler
LOCATION;CHARSET=UTF-8:
UID:324cf3adb1324378fb28caa9300f7054-cd5a5bb53ee8e3c16953ade16c6e3e77
PRIORITY:3
END:VEVENT
END:VCALENDAR