BEGIN:VCALENDAR
VERSION:1.0
PRODID:Open2CKalenderExportV11
BEGIN:VEVENT
DTSTAMP:20250926T104907Z
DTSTART:20251024T130000Z
DTEND:20251024T190000Z
CATEGORIES:Konzerte
SUMMARY;CHARSET=UTF-8:Aufbau 15:00 und Generalprobe 19-21 Uhr Kirchenkonzert St. Sebastian, Ebersberg
DESCRIPTION;CHARSET=UTF-8: | Organisator   Musikkapelle Gelting | Kontakt   H. Rittler
LOCATION;CHARSET=UTF-8:
UID:f622b0ac37434d7e676a4b657b0afcb0-ecd97f588aed1624149fde6b5f964bcc
PRIORITY:3
END:VEVENT
END:VCALENDAR