BEGIN:VCALENDAR
VERSION:1.0
PRODID:Open2CKalenderExportV11
BEGIN:VEVENT
DTSTAMP:20250313T133745Z
DTSTART:20250711T150000Z
DTEND:20250711T170000Z
CATEGORIES:Verschiedenes
SUMMARY;CHARSET=UTF-8:MKG - Volksfesteinzug in Poing
DESCRIPTION;CHARSET=UTF-8: | Organisator   Musikkapelle Gelting | Kontakt   H. Rittler
LOCATION;CHARSET=UTF-8:
UID:641546271286ff38415fe118baf7d508-3d90e3b0b2ffea6cf25487572af58e7a
PRIORITY:3
END:VEVENT
END:VCALENDAR