BEGIN:VCALENDAR
VERSION:1.0
PRODID:Open2CKalenderExportV11
BEGIN:VEVENT
DTSTAMP:20250311T091541Z
DTSTART:20251026T133000Z
DTEND:20251026T170000Z
CATEGORIES:Vereine
SUMMARY;CHARSET=UTF-8:EIP - Event
DESCRIPTION;CHARSET=UTF-8: | Organisator   Elterninitiative Pliening | Kontakt   Sonja Jeck
LOCATION;CHARSET=UTF-8:
UID:080eb7ffd1c8f76e187071f17ed40625-fe76ccd5bddf3672d627a1c45de754a1
PRIORITY:3
END:VEVENT
END:VCALENDAR