BEGIN:VCALENDAR
VERSION:1.0
PRODID:Open2CKalenderExportV11
BEGIN:VEVENT
DTSTAMP:20250311T091141Z
DTSTART:20250406T123000Z
DTEND:20250406T160000Z
CATEGORIES:Vereine
SUMMARY;CHARSET=UTF-8:EIP- Event - der Zauberer kommt
DESCRIPTION;CHARSET=UTF-8: | Organisator   Elterninitiative Pliening | Kontakt   Sonja Jeck
LOCATION;CHARSET=UTF-8:
UID:08c8d149eac73bfd91a3050f8ee2cddf-79558f94d3265ca2b9ca6e2bd3bc7d25
PRIORITY:3
END:VEVENT
END:VCALENDAR