BEGIN:VCALENDAR
VERSION:1.0
PRODID:Open2CKalenderExportV11
BEGIN:VEVENT
DTSTAMP:20250319T100327Z
DTSTART:20251018T220000Z
DTEND:20251018T220000Z
CATEGORIES:Kirchweih
SUMMARY;CHARSET=UTF-8:Jahrtag und Kirta
DESCRIPTION;CHARSET=UTF-8: | Organisator   Trachtenverein Stoabergler | Kontakt   Michael Klaß
LOCATION;CHARSET=UTF-8:Wachinger
UID:2e4c9b37fbb42593f61d10a07a3b86ab-e28e83da28e4d75dbcb404b0dcd8d04d
PRIORITY:3
END:VEVENT
END:VCALENDAR