BEGIN:VCALENDAR
VERSION:1.0
PRODID:Open2CKalenderExportV11
BEGIN:VEVENT
DTSTAMP:20250114T100339Z
DTSTART:20250809T150000Z
DTEND:20250809T210000Z
CATEGORIES:Feste und Feiern
SUMMARY;CHARSET=UTF-8:Gartenfest FFW Gelting
DESCRIPTION;CHARSET=UTF-8:Alternativ: 14.8.2025 | Organisator   FFW Gelting | Kontakt   Andi Obermaier
LOCATION;CHARSET=UTF-8:
UID:55fd82f95771d9e9bf312f70f8daa1e8-cfeb91e4453b775014688690404f761b
PRIORITY:3
END:VEVENT
END:VCALENDAR