BEGIN:VCALENDAR
VERSION:1.0
PRODID:Open2CKalenderExportV11
BEGIN:VEVENT
DTSTAMP:20241223T140028Z
DTSTART:20250310T183000Z
DTEND:20250310T203000Z
CATEGORIES:Verschiedenes
SUMMARY;CHARSET=UTF-8:CSU-Ortshauptversammlung mit Neuwahlen
DESCRIPTION;CHARSET=UTF-8:Ehrengast: Landrat Robert Niedergesäß | Organisator   CSU Ortsverband Pliening | Kontakt   Rene Buchmann
LOCATION;CHARSET=UTF-8:Bürgerstüberl
UID:81cc6358bfeb8facd35c3c3354d899d1-bcffda733e3c50f6fc1c823398014980
PRIORITY:3
END:VEVENT
END:VCALENDAR