BEGIN:VCALENDAR
VERSION:1.0
PRODID:Open2CKalenderExportV11
BEGIN:VEVENT
DTSTAMP:20241211T110744Z
DTSTART:20250309T090000Z
DTEND:20250309T100000Z
CATEGORIES:Vereine
SUMMARY;CHARSET=UTF-8:Kirche für verstorbene Mitglieder FFW Landsham
DESCRIPTION;CHARSET=UTF-8: | Organisator   FFW Landsham | Kontakt   H. Hornburger
LOCATION;CHARSET=UTF-8:
UID:fafbef394f3134a874bc21c5cf17ec49-ce893182c688cf89a8fb324ce064ad37
PRIORITY:3
END:VEVENT
END:VCALENDAR