BEGIN:VCALENDAR
VERSION:1.0
PRODID:Open2CKalenderExportV11
BEGIN:VEVENT
DTSTAMP:20241210T125637Z
DTSTART:20250307T183000Z
DTEND:20250307T203000Z
CATEGORIES:Feuerwehr
SUMMARY;CHARSET=UTF-8:Jahreshauptversammlung mit Neuwahlen FFW Landsham
DESCRIPTION;CHARSET=UTF-8: | Organisator   FFW Landsham | Kontakt   H. Hornburger
LOCATION;CHARSET=UTF-8:Feuerwehrhaus Landsham
UID:572e3869a6707764f35f525af0c47a81-119cd623b0310559fe6df88278c9b31b
PRIORITY:3
END:VEVENT
END:VCALENDAR