BEGIN:VCALENDAR
VERSION:1.0
PRODID:Open2CKalenderExportV11
BEGIN:VEVENT
DTSTAMP:20240919T072507Z
DTSTART:20250306T150000Z
DTEND:20250306T190000Z
CATEGORIES:Verschiedenes
SUMMARY;CHARSET=UTF-8:Blutspenden
DESCRIPTION;CHARSET=UTF-8: | Organisator   BRK | Kontakt   Frau Reichert
LOCATION;CHARSET=UTF-8:Bürgersaal
UID:0d447bf39ad247c9c4de944c3fdaab98-34db8994081351d1d490f9fde138d698
PRIORITY:3
END:VEVENT
END:VCALENDAR