BEGIN:VCALENDAR
VERSION:1.0
PRODID:Open2CKalenderExportV11
BEGIN:VEVENT
DTSTAMP:20240919T072056Z
DTSTART:20250124T230000Z
DTEND:20250124T230000Z
CATEGORIES:Feste und Feiern
SUMMARY;CHARSET=UTF-8:Schwarzlichtparty
DESCRIPTION;CHARSET=UTF-8: | Organisator   D`wuid`n Bixn Dirndlverein | Kontakt   Emely Bauer
LOCATION;CHARSET=UTF-8:Bürgersaal
UID:8fc64711444fee05050bd9448b1d72b3-5b7ec051a8a41bdc472d78dc13da3472
PRIORITY:3
END:VEVENT
END:VCALENDAR