BEGIN:VCALENDAR
VERSION:1.0
PRODID:Open2CKalenderExportV11
BEGIN:VEVENT
DTSTAMP:20240916T082137Z
DTSTART:20250319T173000Z
DTEND:20250319T210000Z
CATEGORIES:Vereine
SUMMARY;CHARSET=UTF-8:Josefifeier mit Rehessen Reservierung unter 08121-771537
DESCRIPTION;CHARSET=UTF-8: | Organisator   SG Ottersberg | Kontakt   Thomas Kiefer
LOCATION;CHARSET=UTF-8:
UID:cfb55b0aa4fa425d2b4b90f3f7b8930e-2d032eaa6dc7b50c0f821ec83b9c756a
PRIORITY:3
END:VEVENT
END:VCALENDAR