BEGIN:VCALENDAR
VERSION:1.0
PRODID:Open2CKalenderExportV11
BEGIN:VEVENT
DTSTAMP:20240916T081844Z
DTSTART:20250315T183000Z
DTEND:20250315T210000Z
CATEGORIES:Vereine
SUMMARY;CHARSET=UTF-8:Jahreshauptversammlung SG Ottersberg
DESCRIPTION;CHARSET=UTF-8: | Organisator   SG Ottersberg | Kontakt   Thomas Kiefer
LOCATION;CHARSET=UTF-8:
UID:2cabe434931c02caa2419380172bf5f1-da0629743f7fda138488b95a5c644c04
PRIORITY:3
END:VEVENT
END:VCALENDAR