BEGIN:VCALENDAR
VERSION:1.0
PRODID:Open2CKalenderExportV11
BEGIN:VEVENT
DTSTAMP:20240912T132115Z
DTSTART:20250425T120000Z
DTEND:20250425T150000Z
CATEGORIES:Senioren
SUMMARY;CHARSET=UTF-8:Seniorennachmittag im Maibaumstüberl Landsham
DESCRIPTION;CHARSET=UTF-8: | Organisator   Gemeinde Pliening | Kontakt   Angelika Diefenthaler
LOCATION;CHARSET=UTF-8:Maibaumstüberl Dorfplatz Landsham
UID:89ebc50beb55848ec612c6edd85ce6a0-7c0c8ad038c194a0f4f96786a16c64fa
PRIORITY:3
END:VEVENT
END:VCALENDAR