BEGIN:VCALENDAR
VERSION:1.0
PRODID:Open2CKalenderExportV11
BEGIN:VEVENT
DTSTAMP:20240321T094328Z
DTSTART:20250220T230000Z
DTEND:20250220T230000Z
CATEGORIES:Fasching
SUMMARY;CHARSET=UTF-8:Faschingsfeier Grundschule
DESCRIPTION;CHARSET=UTF-8: | Organisator   Grundschule Elternbeirat | Kontakt   Frau Liess Sandra
LOCATION;CHARSET=UTF-8:Bürgerhaus
UID:eaa966cd7180e3a2b357686c35f23625-de51184f681dc39459a10b972c0e76f9
PRIORITY:3
END:VEVENT
END:VCALENDAR